BEGIN:VCALENDAR
VERSION:2.0
PRODID:-//청춘뮤직 - ECPv4.3.3//NONSGML v1.0//EN
CALSCALE:GREGORIAN
METHOD:PUBLISH
X-WR-CALNAME:청춘뮤직
X-ORIGINAL-URL:http://chungchunmusic.com
X-WR-CALDESC:Events for 청춘뮤직
BEGIN:VEVENT
DTSTART;TZID=Asia/Seoul:20170315T220000
DTEND;TZID=Asia/Seoul:20170315T220000
DTSTAMP:20260420T084340
CREATED:20170308T055708Z
LAST-MODIFIED:20170308T055708Z
UID:6542-1489615200-1489615200@chungchunmusic.com
SUMMARY:V LIVE – 풋풋한 밤 22:00
DESCRIPTION:
URL:http://chungchunmusic.com/event/v-live-%ed%92%8b%ed%92%8b%ed%95%9c-%eb%b0%a4-2200-7/
CATEGORIES:풋풋
END:VEVENT
END:VCALENDAR