BEGIN:VCALENDAR
VERSION:2.0
PRODID:-//청춘뮤직 - ECPv4.3.3//NONSGML v1.0//EN
CALSCALE:GREGORIAN
METHOD:PUBLISH
X-WR-CALNAME:청춘뮤직
X-ORIGINAL-URL:http://chungchunmusic.com
X-WR-CALDESC:Events for 청춘뮤직
BEGIN:VEVENT
DTSTART;TZID=Asia/Seoul:20170308T220000
DTEND;TZID=Asia/Seoul:20170308T220000
DTSTAMP:20260420T102918
CREATED:20170303T081144Z
LAST-MODIFIED:20170303T081144Z
UID:6529-1489010400-1489010400@chungchunmusic.com
SUMMARY:V LIVE - 풋풋한 밤 22:00
DESCRIPTION:
URL:http://chungchunmusic.com/event/v-live-%ed%92%8b%ed%92%8b%ed%95%9c-%eb%b0%a4-2200-6/
CATEGORIES:풋풋
END:VEVENT
END:VCALENDAR