BEGIN:VCALENDAR
VERSION:2.0
PRODID:-//청춘뮤직 - ECPv4.3.3//NONSGML v1.0//EN
CALSCALE:GREGORIAN
METHOD:PUBLISH
X-WR-CALNAME:청춘뮤직
X-ORIGINAL-URL:http://chungchunmusic.com
X-WR-CALDESC:Events for 청춘뮤직
BEGIN:VEVENT
DTSTART;TZID=Asia/Seoul:20170314T220000
DTEND;TZID=Asia/Seoul:20170314T220000
DTSTAMP:20260420T071055
CREATED:20170308T055643Z
LAST-MODIFIED:20170308T055643Z
UID:6540-1489528800-1489528800@chungchunmusic.com
SUMMARY:V LIVE – 노.불.남 22:00
DESCRIPTION:
URL:http://chungchunmusic.com/event/v-live-%eb%85%b8-%eb%b6%88-%eb%82%a8-2200-9/
CATEGORIES:허니지
END:VEVENT
END:VCALENDAR