BEGIN:VCALENDAR
VERSION:2.0
PRODID:-//청춘뮤직 - ECPv4.3.3//NONSGML v1.0//EN
CALSCALE:GREGORIAN
METHOD:PUBLISH
X-WR-CALNAME:청춘뮤직
X-ORIGINAL-URL:http://chungchunmusic.com
X-WR-CALDESC:Events for 청춘뮤직
BEGIN:VEVENT
DTSTART;TZID=Asia/Seoul:20160122T220000
DTEND;TZID=Asia/Seoul:20160122T220000
DTSTAMP:20260423T041616
CREATED:20160122T130001Z
LAST-MODIFIED:20160904T135327Z
UID:5447-1453500000-1453500000@chungchunmusic.com
SUMMARY:프로듀스 101
DESCRIPTION:[방송]Mnet '프로듀스 101' 강시라 출연
URL:http://chungchunmusic.com/event/%ed%94%84%eb%a1%9c%eb%93%80%ec%8a%a4-101/
CATEGORIES:강시라
END:VEVENT
END:VCALENDAR