BEGIN:VCALENDAR
VERSION:2.0
PRODID:-//청춘뮤직 - ECPv4.3.3//NONSGML v1.0//EN
CALSCALE:GREGORIAN
METHOD:PUBLISH
X-WR-CALNAME:청춘뮤직
X-ORIGINAL-URL:http://chungchunmusic.com
X-WR-CALDESC:Events for 청춘뮤직
BEGIN:VEVENT
DTSTART;TZID=Asia/Seoul:20151229T130000
DTEND;TZID=Asia/Seoul:20151229T130000
DTSTAMP:20260424T000002
CREATED:20151223T072011Z
LAST-MODIFIED:20151223T072011Z
UID:5127-1451394000-1451394000@chungchunmusic.com
SUMMARY:풋풋 원음방송 출연
DESCRIPTION:12/29(화)낮12시 (1시출연)\n원음방송 라디오 '기분좋은 12시' 풋풋 출연\n수도권 89.7Mhz
URL:http://chungchunmusic.com/event/%ed%92%8b%ed%92%8b-%ec%9b%90%ec%9d%8c%eb%b0%a9%ec%86%a1-%ec%b6%9c%ec%97%b0/
CATEGORIES:풋풋
END:VEVENT
END:VCALENDAR