BEGIN:VCALENDAR
VERSION:2.0
PRODID:-//청춘뮤직 - ECPv4.3.3//NONSGML v1.0//EN
CALSCALE:GREGORIAN
METHOD:PUBLISH
X-WR-CALNAME:청춘뮤직
X-ORIGINAL-URL:http://chungchunmusic.com
X-WR-CALDESC:Events for 청춘뮤직
BEGIN:VEVENT
DTSTART;TZID=Asia/Seoul:20151230T170000
DTEND;TZID=Asia/Seoul:20151230T170000
DTSTAMP:20260423T223559
CREATED:20151223T072227Z
LAST-MODIFIED:20151223T072227Z
UID:5128-1451494800-1451494800@chungchunmusic.com
SUMMARY:풋풋 아리랑 라디오 'super K pop'출연
DESCRIPTION:12/30(수) 오후4시(5시 출연)\n아리랑 라디오 'super K pop' 풋풋 출연\n
URL:http://chungchunmusic.com/event/%ed%92%8b%ed%92%8b-%ec%95%84%eb%a6%ac%eb%9e%91-%eb%9d%bc%eb%94%94%ec%98%a4-super-k-pop%ec%b6%9c%ec%97%b0/
CATEGORIES:풋풋
END:VEVENT
END:VCALENDAR