BEGIN:VCALENDAR
VERSION:2.0
PRODID:-//청춘뮤직 - ECPv4.3.3//NONSGML v1.0//EN
CALSCALE:GREGORIAN
METHOD:PUBLISH
X-WR-CALNAME:청춘뮤직
X-ORIGINAL-URL:http://chungchunmusic.com
X-WR-CALDESC:Events for 청춘뮤직
BEGIN:VEVENT
DTSTART;TZID=Asia/Seoul:20151231T230000
DTEND;TZID=Asia/Seoul:20151231T230000
DTSTAMP:20260423T170618
CREATED:20151223T073420Z
LAST-MODIFIED:20151223T073420Z
UID:5130-1451602800-1451602800@chungchunmusic.com
SUMMARY:풋풋 경기방송 공개방송
DESCRIPTION:12/31(목) 오후11시 \n경기방송 공개방송 풋풋 출연\n@수원 화성행궁 특설무대
URL:http://chungchunmusic.com/event/%ed%92%8b%ed%92%8b-%ea%b2%bd%ea%b8%b0%eb%b0%a9%ec%86%a1-%ea%b3%b5%ea%b0%9c%eb%b0%a9%ec%86%a1/
CATEGORIES:풋풋
END:VEVENT
END:VCALENDAR