BEGIN:VCALENDAR
VERSION:2.0
PRODID:-//청춘뮤직 - ECPv4.3.3//NONSGML v1.0//EN
CALSCALE:GREGORIAN
METHOD:PUBLISH
X-WR-CALNAME:청춘뮤직
X-ORIGINAL-URL:http://chungchunmusic.com
X-WR-CALDESC:Events for 청춘뮤직
BEGIN:VEVENT
DTSTART;TZID=Asia/Seoul:20171101T183000
DTEND;TZID=Asia/Seoul:20171101T183000
DTSTAMP:20260419T115710
CREATED:20171106T034600Z
LAST-MODIFIED:20171106T034600Z
UID:6911-1509561000-1509561000@chungchunmusic.com
SUMMARY:우리은행 여자농구 개막전 18:30
DESCRIPTION:아산 이순신체육관
URL:http://chungchunmusic.com/event/%ec%9a%b0%eb%a6%ac%ec%9d%80%ed%96%89-%ec%97%ac%ec%9e%90%eb%86%8d%ea%b5%ac-%ea%b0%9c%eb%a7%89%ec%a0%84-1830/
CATEGORIES:허니지
END:VEVENT
END:VCALENDAR