BEGIN:VCALENDAR
VERSION:2.0
PRODID:-//청춘뮤직 - ECPv4.3.3//NONSGML v1.0//EN
CALSCALE:GREGORIAN
METHOD:PUBLISH
X-WR-CALNAME:청춘뮤직
X-ORIGINAL-URL:http://chungchunmusic.com
X-WR-CALDESC:Events for 청춘뮤직
BEGIN:VEVENT
DTSTART;TZID=Asia/Seoul:20161012T200000
DTEND;TZID=Asia/Seoul:20161012T200000
DTSTAMP:20260422T185851
CREATED:20161007T054743Z
LAST-MODIFIED:20161007T054743Z
UID:5503-1476302400-1476302400@chungchunmusic.com
SUMMARY:오픈마이크
DESCRIPTION:[공연]달콤커피 광화문점 오픈마이크 허니지 출연
URL:http://chungchunmusic.com/event/%ec%98%a4%ed%94%88%eb%a7%88%ec%9d%b4%ed%81%ac/
CATEGORIES:허니지
END:VEVENT
END:VCALENDAR