BEGIN:VCALENDAR
VERSION:2.0
PRODID:-//청춘뮤직 - ECPv4.3.3//NONSGML v1.0//EN
CALSCALE:GREGORIAN
METHOD:PUBLISH
X-WR-CALNAME:청춘뮤직
X-ORIGINAL-URL:http://chungchunmusic.com
X-WR-CALDESC:Events for 청춘뮤직
BEGIN:VEVENT
DTSTART;TZID=Asia/Seoul:20160207T170000
DTEND;TZID=Asia/Seoul:20160207T170000
DTSTAMP:20260423T141812
CREATED:20160204T063401Z
LAST-MODIFIED:20160204T063401Z
UID:5228-1454864400-1454864400@chungchunmusic.com
SUMMARY:영등포 타임스퀘어 공연
DESCRIPTION:2/7(일) PM5 영등포 타임스퀘어 1층 공연
URL:http://chungchunmusic.com/event/%ec%98%81%eb%93%b1%ed%8f%ac-%ed%83%80%ec%9e%84%ec%8a%a4%ed%80%98%ec%96%b4-%ea%b3%b5%ec%97%b0/
CATEGORIES:풋풋
END:VEVENT
END:VCALENDAR