BEGIN:VCALENDAR
VERSION:2.0
PRODID:-//청춘뮤직 - ECPv4.3.3//NONSGML v1.0//EN
CALSCALE:GREGORIAN
METHOD:PUBLISH
X-WR-CALNAME:청춘뮤직
X-ORIGINAL-URL:http://chungchunmusic.com
X-WR-CALDESC:Events for 청춘뮤직
BEGIN:VEVENT
DTSTART;TZID=Asia/Seoul:20160814T183000
DTEND;TZID=Asia/Seoul:20160814T183000
DTSTAMP:20260423T182610
CREATED:20160819T124602Z
LAST-MODIFIED:20160819T124602Z
UID:5375-1471199400-1471199400@chungchunmusic.com
SUMMARY:버블팝 콘서트
DESCRIPTION:[공연]'버블팝 콘서트' 풋풋 출연\, 저녁 6시 30분 신세계 백화점 강남점 11층 S가든
URL:http://chungchunmusic.com/event/%eb%b2%84%eb%b8%94%ed%8c%9d-%ec%bd%98%ec%84%9c%ed%8a%b8/
CATEGORIES:풋풋
END:VEVENT
END:VCALENDAR