BEGIN:VCALENDAR
VERSION:2.0
PRODID:-//청춘뮤직 - ECPv4.3.3//NONSGML v1.0//EN
CALSCALE:GREGORIAN
METHOD:PUBLISH
X-WR-CALNAME:청춘뮤직
X-ORIGINAL-URL:http://chungchunmusic.com
X-WR-CALDESC:Events for 청춘뮤직
BEGIN:VEVENT
DTSTART;TZID=Asia/Seoul:20160219T170000
DTEND;TZID=Asia/Seoul:20160219T170000
DTSTAMP:20260423T232945
CREATED:20160222T044716Z
LAST-MODIFIED:20160222T044748Z
UID:5237-1455901200-1455901200@chungchunmusic.com
SUMMARY:[라디오] 아리랑 라디오 super K-pop
DESCRIPTION:허니지 박지용 매주 금요일 pm5 아리랑 라디오 super k-pop 고정게스트
URL:http://chungchunmusic.com/event/%eb%9d%bc%eb%94%94%ec%98%a4-%ec%95%84%eb%a6%ac%eb%9e%91-%eb%9d%bc%eb%94%94%ec%98%a4-super-k-pop-15/
CATEGORIES:허니지
END:VEVENT
END:VCALENDAR