BEGIN:VCALENDAR
VERSION:2.0
PRODID:-//청춘뮤직 - ECPv4.3.3//NONSGML v1.0//EN
CALSCALE:GREGORIAN
METHOD:PUBLISH
X-WR-CALNAME:청춘뮤직
X-ORIGINAL-URL:http://chungchunmusic.com
X-WR-CALDESC:Events for 청춘뮤직
BEGIN:VEVENT
DTSTART;TZID=Asia/Seoul:20170908T183000
DTEND;TZID=Asia/Seoul:20170908T183000
DTSTAMP:20260419T184949
CREATED:20170908T094114Z
LAST-MODIFIED:20170915T061618Z
UID:6848-1504895400-1504895400@chungchunmusic.com
SUMMARY:공연-생명사랑 밤길걷기
DESCRIPTION:
URL:http://chungchunmusic.com/event/%ea%b3%b5%ec%97%b0-%ec%83%9d%eb%aa%85%ec%82%ac%eb%9e%91-%eb%b0%a4%ea%b8%b8%ea%b1%b7%ea%b8%b0/
CATEGORIES:강시라,허니지
END:VEVENT
END:VCALENDAR