BEGIN:VCALENDAR
VERSION:2.0
PRODID:-//청춘뮤직 - ECPv4.3.3//NONSGML v1.0//EN
CALSCALE:GREGORIAN
METHOD:PUBLISH
X-WR-CALNAME:청춘뮤직
X-ORIGINAL-URL:http://chungchunmusic.com
X-WR-CALDESC:Events for 청춘뮤직
BEGIN:VEVENT
DTSTART;TZID=Asia/Seoul:20160120T140000
DTEND;TZID=Asia/Seoul:20160120T140000
DTSTAMP:20260423T082115
CREATED:20160119T080512Z
LAST-MODIFIED:20160119T080538Z
UID:5205-1453298400-1453298400@chungchunmusic.com
SUMMARY:경인방송 출연
DESCRIPTION:1/20(수) pm2 경인방송 박완규의 희희락락 (풋풋 3시출연)\n90.7MHz
URL:http://chungchunmusic.com/event/%ea%b2%bd%ec%9d%b8%eb%b0%a9%ec%86%a1-%ec%b6%9c%ec%97%b0/
CATEGORIES:풋풋
END:VEVENT
END:VCALENDAR