BEGIN:VCALENDAR
VERSION:2.0
PRODID:-//청춘뮤직 - ECPv4.3.3//NONSGML v1.0//EN
CALSCALE:GREGORIAN
METHOD:PUBLISH
X-WR-CALNAME:청춘뮤직
X-ORIGINAL-URL:http://chungchunmusic.com
X-WR-CALDESC:Events for 청춘뮤직
BEGIN:VEVENT
DTSTART;TZID=Asia/Seoul:20160222T150000
DTEND;TZID=Asia/Seoul:20160222T150000
DTSTAMP:20260424T004427
CREATED:20160212T071807Z
LAST-MODIFIED:20160212T071807Z
UID:5231-1456153200-1456153200@chungchunmusic.com
SUMMARY:경기방송 바운스바운스 출연
DESCRIPTION:2/22(월) pm2~4 경기방송 바운스바운스 (풋풋 3시출연) 99.9mHz 
URL:http://chungchunmusic.com/event/%ea%b2%bd%ea%b8%b0%eb%b0%a9%ec%86%a1-%eb%b0%94%ec%9a%b4%ec%8a%a4%eb%b0%94%ec%9a%b4%ec%8a%a4-%ec%b6%9c%ec%97%b0/
CATEGORIES:풋풋
END:VEVENT
END:VCALENDAR